BEGIN:VCALENDAR
VERSION:2.0
PRODID:-//eventon.com NONSGML v1.0//EN
BEGIN:VEVENT
UID:69eb44fbd66d0
DTSTAMP:20260424T122459
DTSTART:20211107T070000Z
DTEND:20211107T110000Z
LOCATION:Battlesoft 80 Le Grand Chemin\,  38140 Beaucroissant
SUMMARY:Birthday party airsoft.
DESCRIPTION: En Full AUTO PAF 6€ de 9h à 13H Ouverture de portail à 9H Événements détente limites à 20 participants scénario gérée par les participants. Règles et sécurité d’engagement :- Réplique d’assaut\,  de poing\,  pompe = Sans distance de tir minimum- Réplique sniper = 30 mètres minimum- Il est interdit[..]
URL:https://battlesoft.fr/events/birthday-party-airsoft/
END:VEVENT
END:VCALENDAR