BEGIN:VCALENDAR
VERSION:2.0
PRODID:-//eventon.com NONSGML v1.0//EN
BEGIN:VEVENT
UID:69ed202adfeef
DTSTAMP:20260425T221226
DTSTART:20210801T060000Z
DTEND:20210801T110000Z
LOCATION:Battlesoft 80 Le Grand Chemin\,  38140 Beaucroissant
SUMMARY:Partie morning airsoft\,  Dimanche Full
DESCRIPTION: Partie last morning en Full AUTO PAF 11€ de 8h à 13H Ouverture de portail à 8H Règles et sécurité d’engagement :- Réplique d’assaut\,  de poing\,  pompe = Sans distance de tir minimum- Réplique sniper = 30 mètres minimum- Il est interdit de grimper / d’enjamber un obstacle plus haut[..]
URL:https://battlesoft.fr/events/partie-morning-airsoft-dimanche-full-6/
END:VEVENT
END:VCALENDAR