BEGIN:VCALENDAR
VERSION:2.0
PRODID:-//eventon.com NONSGML v1.0//EN
BEGIN:VEVENT
UID:69eaf6c201242
DTSTAMP:20260424T065114
DTSTART:20210501T070000Z
DTEND:20210501T140000Z
LOCATION:Battlesoft 80 Le Grand Chemin\,  38140 Beaucroissant
SUMMARY:Multi Games\,  Samedi 1.5J max
DESCRIPTION: Multi games\,  samedi 1.5 joules MAX Paf 15.59€ Le matin Semi only\,  l'après-midi Full Auto\,  Evénement du club BST\,  pour participer il faut être à jour de ça cotisation ou être inviter par un membre du club. Règles et sécurité d’engagement :- Réplique d’assaut\,  de poing\,  pompe = Sans distance[..]
URL:https://battlesoft.fr/events/multi-games-partie-dairsoft-battlesoft/
END:VEVENT
END:VCALENDAR