BEGIN:VCALENDAR
VERSION:2.0
PRODID:-//eventon.com NONSGML v1.0//EN
BEGIN:VEVENT
UID:69eb45fee85d1
DTSTAMP:20260424T122918
DTSTART:20240504T160000Z
DTEND:20240504T215900Z
LOCATION:Battlesoft 80 Le Grand Chemin\,  38140 Beaucroissant
SUMMARY:Multi Games nocturne\,  Semi only Organisé par Gabin
DESCRIPTION: Multi Games nocturne du samedi au dimanche 1.5 joules MAX Paf 17€ Le Multi-Game organisé par les membres BST sur le terrain Battlesoft\,  des jeux varié en semi. Règles et sécurité d’engagement :- Réplique d’assaut\,  de poing\,  pompe = Sans distance de tir minimum- Réplique sniper = Non applicable de[..]
URL:https://battlesoft.fr/events/multi-games-nocturne-semi-only-organise-par-gabin/
END:VEVENT
END:VCALENDAR