BEGIN:VCALENDAR
VERSION:2.0
PRODID:-//eventon.com NONSGML v1.0//EN
BEGIN:VEVENT
UID:69eb4863abb8c
DTSTAMP:20260424T123931
DTSTART:20231217T070000Z
DTEND:20231217T140000Z
LOCATION:Battlesoft 80 Le Grand Chemin\,  38140 Beaucroissant
SUMMARY:Partie airsoft\,  Dimanche 9h-16h
DESCRIPTION: Partie dominical (Semi et full autorisé suivant nos envies) PAF 17€ de 9h à 16H Ouverture de portail à 9H Seul ou en équipe venez découvrir le format de jeux en mode amicale\,  sans classement seulement pour le fun du jeux. Si vous êtes seul\,  nous vous trouverons une équipe[..]
URL:https://battlesoft.fr/events/partie-airsoft-dimanche-9h-16h-copy/
END:VEVENT
END:VCALENDAR